BEGIN:VCALENDAR
VERSION:2.0
PRODID:-//Verandan Åre - ECPv6.15.11//NONSGML v1.0//EN
CALSCALE:GREGORIAN
METHOD:PUBLISH
X-ORIGINAL-URL:https://verandanare.se
X-WR-CALDESC:Händelser för Verandan Åre
REFRESH-INTERVAL;VALUE=DURATION:PT1H
X-Robots-Tag:noindex
X-PUBLISHED-TTL:PT1H
BEGIN:VTIMEZONE
TZID:Europe/Stockholm
BEGIN:DAYLIGHT
TZOFFSETFROM:+0100
TZOFFSETTO:+0200
TZNAME:CEST
DTSTART:20230326T010000
END:DAYLIGHT
BEGIN:STANDARD
TZOFFSETFROM:+0200
TZOFFSETTO:+0100
TZNAME:CET
DTSTART:20231029T010000
END:STANDARD
BEGIN:DAYLIGHT
TZOFFSETFROM:+0100
TZOFFSETTO:+0200
TZNAME:CEST
DTSTART:20240331T010000
END:DAYLIGHT
BEGIN:STANDARD
TZOFFSETFROM:+0200
TZOFFSETTO:+0100
TZNAME:CET
DTSTART:20241027T010000
END:STANDARD
BEGIN:DAYLIGHT
TZOFFSETFROM:+0100
TZOFFSETTO:+0200
TZNAME:CEST
DTSTART:20250330T010000
END:DAYLIGHT
BEGIN:STANDARD
TZOFFSETFROM:+0200
TZOFFSETTO:+0100
TZNAME:CET
DTSTART:20251026T010000
END:STANDARD
END:VTIMEZONE
BEGIN:VEVENT
DTSTART;TZID=Europe/Stockholm:20241212T150000
DTEND;TZID=Europe/Stockholm:20241214T180000
DTSTAMP:20260420T155642
CREATED:20241029T132101Z
LAST-MODIFIED:20241029T132101Z
UID:10001034-1734015600-1734199200@verandanare.se
SUMMARY:Öppningshelg
DESCRIPTION:Vi öppnar som alltid under Luciahelgen 12-14 dec med After Ski fredag och lördag 13-14 december. På scenen som alltid står vårt fantastiska Husband\, Marmeladorkestern. \nBara att börja ladda\, vi ses!
URL:https://verandanare.se/event/oppningshelg/
LOCATION:Verandan Åre\, Sankt Olavs Väg 40\, Åre\, 83752\, Sverige
CATEGORIES:Afterski,Featured
ATTACH;FMTTYPE=image/jpeg:https://verandanare.se/wp-content/uploads/2024/10/introbanner2024.jpg
END:VEVENT
END:VCALENDAR