BEGIN:VCALENDAR
VERSION:2.0
PRODID:-//Verandan Åre - ECPv6.15.11//NONSGML v1.0//EN
CALSCALE:GREGORIAN
METHOD:PUBLISH
X-WR-CALNAME:Verandan Åre
X-ORIGINAL-URL:https://verandanare.se
X-WR-CALDESC:Händelser för Verandan Åre
REFRESH-INTERVAL;VALUE=DURATION:PT1H
X-Robots-Tag:noindex
X-PUBLISHED-TTL:PT1H
BEGIN:VTIMEZONE
TZID:Europe/Stockholm
BEGIN:DAYLIGHT
TZOFFSETFROM:+0100
TZOFFSETTO:+0200
TZNAME:CEST
DTSTART:20240331T010000
END:DAYLIGHT
BEGIN:STANDARD
TZOFFSETFROM:+0200
TZOFFSETTO:+0100
TZNAME:CET
DTSTART:20241027T010000
END:STANDARD
BEGIN:DAYLIGHT
TZOFFSETFROM:+0100
TZOFFSETTO:+0200
TZNAME:CEST
DTSTART:20250330T010000
END:DAYLIGHT
BEGIN:STANDARD
TZOFFSETFROM:+0200
TZOFFSETTO:+0100
TZNAME:CET
DTSTART:20251026T010000
END:STANDARD
BEGIN:DAYLIGHT
TZOFFSETFROM:+0100
TZOFFSETTO:+0200
TZNAME:CEST
DTSTART:20260329T010000
END:DAYLIGHT
BEGIN:STANDARD
TZOFFSETFROM:+0200
TZOFFSETTO:+0100
TZNAME:CET
DTSTART:20261025T010000
END:STANDARD
END:VTIMEZONE
BEGIN:VEVENT
DTSTART;TZID=Europe/Stockholm:20250403T150000
DTEND;TZID=Europe/Stockholm:20250403T180000
DTSTAMP:20260420T122747
CREATED:20241209T131018Z
LAST-MODIFIED:20241209T214124Z
UID:10001126-1743692400-1743703200@verandanare.se
SUMMARY:After ski med Duojag
DESCRIPTION:﻿After Ski på Verandan Åre är en klassiker och ett måste under ditt Årebesök. I anrika lokaler med Åres bästa läge och med en stämning som är omtalad världen över. Alltid med Liveunderhållning av Sveriges absolut bästa Coverband samt DJ. Passa också på att äta gott på Verandans Bakficka. Kom i tid – det blir tryck! \nBeskrivning: After Ski med Dj och Liveband\nArtist: DUOJAG\nTid: 15.00 – 18.00\nBordsbokning: Maila din förfrågan till info@verandanare.se
URL:https://verandanare.se/event/duojag/2025-04-03/
LOCATION:Verandan Åre\, Sankt Olavs Väg 40\, Åre\, 83752\, Sverige
CATEGORIES:Afterski
ATTACH;FMTTYPE=image/jpeg:https://verandanare.se/wp-content/uploads/2023/11/verandan-afterski-2024.jpg
END:VEVENT
BEGIN:VEVENT
DTSTART;TZID=Europe/Stockholm:20250404T150000
DTEND;TZID=Europe/Stockholm:20250404T180000
DTSTAMP:20260420T122747
CREATED:20241209T131018Z
LAST-MODIFIED:20241209T214124Z
UID:10001127-1743778800-1743789600@verandanare.se
SUMMARY:After ski med Duojag
DESCRIPTION:﻿After Ski på Verandan Åre är en klassiker och ett måste under ditt Årebesök. I anrika lokaler med Åres bästa läge och med en stämning som är omtalad världen över. Alltid med Liveunderhållning av Sveriges absolut bästa Coverband samt DJ. Passa också på att äta gott på Verandans Bakficka. Kom i tid – det blir tryck! \nBeskrivning: After Ski med Dj och Liveband\nArtist: DUOJAG\nTid: 15.00 – 18.00\nBordsbokning: Maila din förfrågan till info@verandanare.se
URL:https://verandanare.se/event/duojag/2025-04-04/
LOCATION:Verandan Åre\, Sankt Olavs Väg 40\, Åre\, 83752\, Sverige
CATEGORIES:Afterski
ATTACH;FMTTYPE=image/jpeg:https://verandanare.se/wp-content/uploads/2023/11/verandan-afterski-2024.jpg
END:VEVENT
BEGIN:VEVENT
DTSTART;TZID=Europe/Stockholm:20250405T150000
DTEND;TZID=Europe/Stockholm:20250405T180000
DTSTAMP:20260420T122747
CREATED:20241209T131018Z
LAST-MODIFIED:20241209T214124Z
UID:10001128-1743865200-1743876000@verandanare.se
SUMMARY:After ski med Duojag
DESCRIPTION:﻿After Ski på Verandan Åre är en klassiker och ett måste under ditt Årebesök. I anrika lokaler med Åres bästa läge och med en stämning som är omtalad världen över. Alltid med Liveunderhållning av Sveriges absolut bästa Coverband samt DJ. Passa också på att äta gott på Verandans Bakficka. Kom i tid – det blir tryck! \nBeskrivning: After Ski med Dj och Liveband\nArtist: DUOJAG\nTid: 15.00 – 18.00\nBordsbokning: Maila din förfrågan till info@verandanare.se
URL:https://verandanare.se/event/duojag/2025-04-05/
LOCATION:Verandan Åre\, Sankt Olavs Väg 40\, Åre\, 83752\, Sverige
CATEGORIES:Afterski
ATTACH;FMTTYPE=image/jpeg:https://verandanare.se/wp-content/uploads/2023/11/verandan-afterski-2024.jpg
END:VEVENT
BEGIN:VEVENT
DTSTART;TZID=Europe/Stockholm:20250410T150000
DTEND;TZID=Europe/Stockholm:20250410T180000
DTSTAMP:20260420T122747
CREATED:20241209T125534Z
LAST-MODIFIED:20250407T120938Z
UID:10001107-1744297200-1744308000@verandanare.se
SUMMARY:After Ski med Anders Eliasson
DESCRIPTION:After Ski på Verandan Åre är en klassiker och ett måste under ditt Årebesök. I anrika lokaler med Åres bästa läge och med en stämning som är omtalad världen över. Alltid med Liveunderhållning av Sveriges absolut bästa Coverband samt DJ. Passa också på att äta gott på Verandans Bakficka. Kom i tid – det blir tryck! \nBeskrivning: After Ski med Dj och Liveband\nArtist: ANDERS ELIASSON\nTid: 15.00 – 18.00\nBordsbokning: Maila din förfrågan till info@verandanare.se
URL:https://verandanare.se/event/after-ski-med-anders-eliasson-8/2025-04-10/
LOCATION:Verandan Åre\, Sankt Olavs Väg 40\, Åre\, 83752\, Sverige
CATEGORIES:Afterski
ATTACH;FMTTYPE=image/jpeg:https://verandanare.se/wp-content/uploads/2023/12/afterski-anderseliasson.jpg
END:VEVENT
BEGIN:VEVENT
DTSTART;TZID=Europe/Stockholm:20250411T150000
DTEND;TZID=Europe/Stockholm:20250411T180000
DTSTAMP:20260420T122747
CREATED:20241209T125534Z
LAST-MODIFIED:20250407T120938Z
UID:10001108-1744383600-1744394400@verandanare.se
SUMMARY:After Ski med Anders Eliasson
DESCRIPTION:After Ski på Verandan Åre är en klassiker och ett måste under ditt Årebesök. I anrika lokaler med Åres bästa läge och med en stämning som är omtalad världen över. Alltid med Liveunderhållning av Sveriges absolut bästa Coverband samt DJ. Passa också på att äta gott på Verandans Bakficka. Kom i tid – det blir tryck! \nBeskrivning: After Ski med Dj och Liveband\nArtist: ANDERS ELIASSON\nTid: 15.00 – 18.00\nBordsbokning: Maila din förfrågan till info@verandanare.se
URL:https://verandanare.se/event/after-ski-med-anders-eliasson-8/2025-04-11/
LOCATION:Verandan Åre\, Sankt Olavs Väg 40\, Åre\, 83752\, Sverige
CATEGORIES:Afterski
ATTACH;FMTTYPE=image/jpeg:https://verandanare.se/wp-content/uploads/2023/12/afterski-anderseliasson.jpg
END:VEVENT
BEGIN:VEVENT
DTSTART;TZID=Europe/Stockholm:20250412T150000
DTEND;TZID=Europe/Stockholm:20250412T180000
DTSTAMP:20260420T122747
CREATED:20241209T125534Z
LAST-MODIFIED:20250407T120938Z
UID:10001109-1744470000-1744480800@verandanare.se
SUMMARY:After Ski med Anders Eliasson
DESCRIPTION:After Ski på Verandan Åre är en klassiker och ett måste under ditt Årebesök. I anrika lokaler med Åres bästa läge och med en stämning som är omtalad världen över. Alltid med Liveunderhållning av Sveriges absolut bästa Coverband samt DJ. Passa också på att äta gott på Verandans Bakficka. Kom i tid – det blir tryck! \nBeskrivning: After Ski med Dj och Liveband\nArtist: ANDERS ELIASSON\nTid: 15.00 – 18.00\nBordsbokning: Maila din förfrågan till info@verandanare.se
URL:https://verandanare.se/event/after-ski-med-anders-eliasson-8/2025-04-12/
LOCATION:Verandan Åre\, Sankt Olavs Väg 40\, Åre\, 83752\, Sverige
CATEGORIES:Afterski
ATTACH;FMTTYPE=image/jpeg:https://verandanare.se/wp-content/uploads/2023/12/afterski-anderseliasson.jpg
END:VEVENT
BEGIN:VEVENT
DTSTART;TZID=Europe/Stockholm:20250424T150000
DTEND;TZID=Europe/Stockholm:20250424T180000
DTSTAMP:20260420T122747
CREATED:20241209T125534Z
LAST-MODIFIED:20250407T120938Z
UID:10001167-1745506800-1745517600@verandanare.se
SUMMARY:After Ski med Anders Eliasson
DESCRIPTION:After Ski på Verandan Åre är en klassiker och ett måste under ditt Årebesök. I anrika lokaler med Åres bästa läge och med en stämning som är omtalad världen över. Alltid med Liveunderhållning av Sveriges absolut bästa Coverband samt DJ. Passa också på att äta gott på Verandans Bakficka. Kom i tid – det blir tryck! \nBeskrivning: After Ski med Dj och Liveband\nArtist: ANDERS ELIASSON\nTid: 15.00 – 18.00\nBordsbokning: Maila din förfrågan till info@verandanare.se
URL:https://verandanare.se/event/after-ski-med-anders-eliasson-8/2025-04-24/
LOCATION:Verandan Åre\, Sankt Olavs Väg 40\, Åre\, 83752\, Sverige
CATEGORIES:Afterski
ATTACH;FMTTYPE=image/jpeg:https://verandanare.se/wp-content/uploads/2023/12/afterski-anderseliasson.jpg
END:VEVENT
BEGIN:VEVENT
DTSTART;TZID=Europe/Stockholm:20250425T150000
DTEND;TZID=Europe/Stockholm:20250425T180000
DTSTAMP:20260420T122747
CREATED:20241209T125534Z
LAST-MODIFIED:20250407T120938Z
UID:10001168-1745593200-1745604000@verandanare.se
SUMMARY:After Ski med Anders Eliasson
DESCRIPTION:After Ski på Verandan Åre är en klassiker och ett måste under ditt Årebesök. I anrika lokaler med Åres bästa läge och med en stämning som är omtalad världen över. Alltid med Liveunderhållning av Sveriges absolut bästa Coverband samt DJ. Passa också på att äta gott på Verandans Bakficka. Kom i tid – det blir tryck! \nBeskrivning: After Ski med Dj och Liveband\nArtist: ANDERS ELIASSON\nTid: 15.00 – 18.00\nBordsbokning: Maila din förfrågan till info@verandanare.se
URL:https://verandanare.se/event/after-ski-med-anders-eliasson-8/2025-04-25/
LOCATION:Verandan Åre\, Sankt Olavs Väg 40\, Åre\, 83752\, Sverige
CATEGORIES:Afterski
ATTACH;FMTTYPE=image/jpeg:https://verandanare.se/wp-content/uploads/2023/12/afterski-anderseliasson.jpg
END:VEVENT
BEGIN:VEVENT
DTSTART;TZID=Europe/Stockholm:20250426T150000
DTEND;TZID=Europe/Stockholm:20250426T180000
DTSTAMP:20260420T122747
CREATED:20241209T125534Z
LAST-MODIFIED:20250407T120938Z
UID:10001169-1745679600-1745690400@verandanare.se
SUMMARY:After Ski med Anders Eliasson
DESCRIPTION:After Ski på Verandan Åre är en klassiker och ett måste under ditt Årebesök. I anrika lokaler med Åres bästa läge och med en stämning som är omtalad världen över. Alltid med Liveunderhållning av Sveriges absolut bästa Coverband samt DJ. Passa också på att äta gott på Verandans Bakficka. Kom i tid – det blir tryck! \nBeskrivning: After Ski med Dj och Liveband\nArtist: ANDERS ELIASSON\nTid: 15.00 – 18.00\nBordsbokning: Maila din förfrågan till info@verandanare.se
URL:https://verandanare.se/event/after-ski-med-anders-eliasson-8/2025-04-26/
LOCATION:Verandan Åre\, Sankt Olavs Väg 40\, Åre\, 83752\, Sverige
CATEGORIES:Afterski
ATTACH;FMTTYPE=image/jpeg:https://verandanare.se/wp-content/uploads/2023/12/afterski-anderseliasson.jpg
END:VEVENT
END:VCALENDAR