BEGIN:VCALENDAR
VERSION:2.0
PRODID:-//Verandan Åre - ECPv6.15.11//NONSGML v1.0//EN
CALSCALE:GREGORIAN
METHOD:PUBLISH
X-ORIGINAL-URL:https://verandanare.se
X-WR-CALDESC:Händelser för Verandan Åre
REFRESH-INTERVAL;VALUE=DURATION:PT1H
X-Robots-Tag:noindex
X-PUBLISHED-TTL:PT1H
BEGIN:VTIMEZONE
TZID:Europe/Stockholm
BEGIN:DAYLIGHT
TZOFFSETFROM:+0100
TZOFFSETTO:+0200
TZNAME:CEST
DTSTART:20240331T010000
END:DAYLIGHT
BEGIN:STANDARD
TZOFFSETFROM:+0200
TZOFFSETTO:+0100
TZNAME:CET
DTSTART:20241027T010000
END:STANDARD
BEGIN:DAYLIGHT
TZOFFSETFROM:+0100
TZOFFSETTO:+0200
TZNAME:CEST
DTSTART:20250330T010000
END:DAYLIGHT
BEGIN:STANDARD
TZOFFSETFROM:+0200
TZOFFSETTO:+0100
TZNAME:CET
DTSTART:20251026T010000
END:STANDARD
BEGIN:DAYLIGHT
TZOFFSETFROM:+0100
TZOFFSETTO:+0200
TZNAME:CEST
DTSTART:20260329T010000
END:DAYLIGHT
BEGIN:STANDARD
TZOFFSETFROM:+0200
TZOFFSETTO:+0100
TZNAME:CET
DTSTART:20261025T010000
END:STANDARD
END:VTIMEZONE
BEGIN:VEVENT
DTSTART;TZID=Europe/Stockholm:20250109T150000
DTEND;TZID=Europe/Stockholm:20250109T170000
DTSTAMP:20260420T211128
CREATED:20241209T130334Z
LAST-MODIFIED:20241209T214245Z
UID:10001110-1736434800-1736442000@verandanare.se
SUMMARY:After Ski med Fullt ös
DESCRIPTION:After Ski på Verandan Åre är en klassiker och ett måste under ditt Årebesök. I anrika lokaler med Åres bästa läge och med en stämning som är omtalad världen över. Alltid med Liveunderhållning av Sveriges absolut bästa Coverband samt DJ. Passa också på att äta gott på Verandans Bakficka. Kom i tid – det blir tryck! \nBeskrivning: After Ski med Dj och Liveband\nArtist: FULLT ÖS\nTid: 15.00 – 18.00\nBordsbokning: Maila din förfrågan till info@verandanare.se
URL:https://verandanare.se/event/fullt-os/2025-01-09/
LOCATION:Verandan Åre\, Sankt Olavs Väg 40\, Åre\, 83752\, Sverige
CATEGORIES:Afterski
ATTACH;FMTTYPE=image/jpeg:https://verandanare.se/wp-content/uploads/2023/11/verandan-afterski-2024.jpg
END:VEVENT
BEGIN:VEVENT
DTSTART;TZID=Europe/Stockholm:20250110T150000
DTEND;TZID=Europe/Stockholm:20250110T180000
DTSTAMP:20260420T211128
CREATED:20241209T130334Z
LAST-MODIFIED:20241209T214245Z
UID:10001111-1736521200-1736532000@verandanare.se
SUMMARY:After Ski med Fullt ös
DESCRIPTION:After Ski på Verandan Åre är en klassiker och ett måste under ditt Årebesök. I anrika lokaler med Åres bästa läge och med en stämning som är omtalad världen över. Alltid med Liveunderhållning av Sveriges absolut bästa Coverband samt DJ. Passa också på att äta gott på Verandans Bakficka. Kom i tid – det blir tryck! \nBeskrivning: After Ski med Dj och Liveband\nArtist: FULLT ÖS\nTid: 15.00 – 18.00\nBordsbokning: Maila din förfrågan till info@verandanare.se
URL:https://verandanare.se/event/fullt-os/2025-01-10/
LOCATION:Verandan Åre\, Sankt Olavs Väg 40\, Åre\, 83752\, Sverige
CATEGORIES:Afterski
ATTACH;FMTTYPE=image/jpeg:https://verandanare.se/wp-content/uploads/2023/11/verandan-afterski-2024.jpg
END:VEVENT
BEGIN:VEVENT
DTSTART;TZID=Europe/Stockholm:20250111T150000
DTEND;TZID=Europe/Stockholm:20250111T180000
DTSTAMP:20260420T211128
CREATED:20241209T130334Z
LAST-MODIFIED:20241209T214245Z
UID:10001112-1736607600-1736618400@verandanare.se
SUMMARY:After Ski med Fullt ös
DESCRIPTION:After Ski på Verandan Åre är en klassiker och ett måste under ditt Årebesök. I anrika lokaler med Åres bästa läge och med en stämning som är omtalad världen över. Alltid med Liveunderhållning av Sveriges absolut bästa Coverband samt DJ. Passa också på att äta gott på Verandans Bakficka. Kom i tid – det blir tryck! \nBeskrivning: After Ski med Dj och Liveband\nArtist: FULLT ÖS\nTid: 15.00 – 18.00\nBordsbokning: Maila din förfrågan till info@verandanare.se
URL:https://verandanare.se/event/fullt-os/2025-01-11/
LOCATION:Verandan Åre\, Sankt Olavs Väg 40\, Åre\, 83752\, Sverige
CATEGORIES:Afterski
ATTACH;FMTTYPE=image/jpeg:https://verandanare.se/wp-content/uploads/2023/11/verandan-afterski-2024.jpg
END:VEVENT
END:VCALENDAR