BEGIN:VCALENDAR
VERSION:2.0
PRODID:-//Verandan Åre - ECPv6.15.11//NONSGML v1.0//EN
CALSCALE:GREGORIAN
METHOD:PUBLISH
X-WR-CALNAME:Verandan Åre
X-ORIGINAL-URL:https://verandanare.se
X-WR-CALDESC:Händelser för Verandan Åre
REFRESH-INTERVAL;VALUE=DURATION:PT1H
X-Robots-Tag:noindex
X-PUBLISHED-TTL:PT1H
BEGIN:VTIMEZONE
TZID:Europe/Stockholm
BEGIN:DAYLIGHT
TZOFFSETFROM:+0100
TZOFFSETTO:+0200
TZNAME:CEST
DTSTART:20250330T010000
END:DAYLIGHT
BEGIN:STANDARD
TZOFFSETFROM:+0200
TZOFFSETTO:+0100
TZNAME:CET
DTSTART:20251026T010000
END:STANDARD
BEGIN:DAYLIGHT
TZOFFSETFROM:+0100
TZOFFSETTO:+0200
TZNAME:CEST
DTSTART:20260329T010000
END:DAYLIGHT
BEGIN:STANDARD
TZOFFSETFROM:+0200
TZOFFSETTO:+0100
TZNAME:CET
DTSTART:20261025T010000
END:STANDARD
BEGIN:DAYLIGHT
TZOFFSETFROM:+0100
TZOFFSETTO:+0200
TZNAME:CEST
DTSTART:20270328T010000
END:DAYLIGHT
BEGIN:STANDARD
TZOFFSETFROM:+0200
TZOFFSETTO:+0100
TZNAME:CET
DTSTART:20271031T010000
END:STANDARD
END:VTIMEZONE
BEGIN:VEVENT
DTSTART;TZID=Europe/Stockholm:20260119T080000
DTEND;TZID=Europe/Stockholm:20260119T170000
DTSTAMP:20260419T231420
CREATED:20251109T221633Z
LAST-MODIFIED:20260212T153927Z
UID:10001339-1768809600-1768842000@verandanare.se
SUMMARY:After Ski med Fullt ös
DESCRIPTION:After Ski på Verandan Åre är en klassiker och ett måste under ditt Årebesök. I anrika lokaler med Åres bästa läge och med en stämning som är omtalad världen över. Alltid med Liveunderhållning av Sveriges absolut bästa Coverband samt DJ. Passa också på att äta gott på Verandans Bakficka. Kom i tid – det blir tryck! \nBeskrivning: After Ski med Dj och Liveband\nArtist: FULLT ÖS\nTid: 15.00 – 18.00\nBordsbokning: Maila din förfrågan till info@verandanare.se
URL:https://verandanare.se/event/after-ski-med-fullt-os/2026-01-19/
LOCATION:Verandan Åre\, Sankt Olavs Väg 40\, Åre\, 83752\, Sverige
CATEGORIES:Afterski
ATTACH;FMTTYPE=image/jpeg:https://verandanare.se/wp-content/uploads/2023/11/verandan-afterski-2024.jpg
END:VEVENT
BEGIN:VEVENT
DTSTART;TZID=Europe/Stockholm:20260120T080000
DTEND;TZID=Europe/Stockholm:20260120T170000
DTSTAMP:20260419T231420
CREATED:20251109T221633Z
LAST-MODIFIED:20260212T153927Z
UID:10001340-1768896000-1768928400@verandanare.se
SUMMARY:After Ski med Fullt ös
DESCRIPTION:After Ski på Verandan Åre är en klassiker och ett måste under ditt Årebesök. I anrika lokaler med Åres bästa läge och med en stämning som är omtalad världen över. Alltid med Liveunderhållning av Sveriges absolut bästa Coverband samt DJ. Passa också på att äta gott på Verandans Bakficka. Kom i tid – det blir tryck! \nBeskrivning: After Ski med Dj och Liveband\nArtist: FULLT ÖS\nTid: 15.00 – 18.00\nBordsbokning: Maila din förfrågan till info@verandanare.se
URL:https://verandanare.se/event/after-ski-med-fullt-os/2026-01-20/
LOCATION:Verandan Åre\, Sankt Olavs Väg 40\, Åre\, 83752\, Sverige
CATEGORIES:Afterski
ATTACH;FMTTYPE=image/jpeg:https://verandanare.se/wp-content/uploads/2023/11/verandan-afterski-2024.jpg
END:VEVENT
BEGIN:VEVENT
DTSTART;TZID=Europe/Stockholm:20260121T080000
DTEND;TZID=Europe/Stockholm:20260121T170000
DTSTAMP:20260419T231420
CREATED:20251109T221633Z
LAST-MODIFIED:20260212T153927Z
UID:10001341-1768982400-1769014800@verandanare.se
SUMMARY:After Ski med Fullt ös
DESCRIPTION:After Ski på Verandan Åre är en klassiker och ett måste under ditt Årebesök. I anrika lokaler med Åres bästa läge och med en stämning som är omtalad världen över. Alltid med Liveunderhållning av Sveriges absolut bästa Coverband samt DJ. Passa också på att äta gott på Verandans Bakficka. Kom i tid – det blir tryck! \nBeskrivning: After Ski med Dj och Liveband\nArtist: FULLT ÖS\nTid: 15.00 – 18.00\nBordsbokning: Maila din förfrågan till info@verandanare.se
URL:https://verandanare.se/event/after-ski-med-fullt-os/2026-01-21/
LOCATION:Verandan Åre\, Sankt Olavs Väg 40\, Åre\, 83752\, Sverige
CATEGORIES:Afterski
ATTACH;FMTTYPE=image/jpeg:https://verandanare.se/wp-content/uploads/2023/11/verandan-afterski-2024.jpg
END:VEVENT
BEGIN:VEVENT
DTSTART;TZID=Europe/Stockholm:20260122T150000
DTEND;TZID=Europe/Stockholm:20260122T180000
DTSTAMP:20260419T231420
CREATED:20251109T222009Z
LAST-MODIFIED:20251109T222009Z
UID:10001321-1769094000-1769104800@verandanare.se
SUMMARY:After ski med Duojag
DESCRIPTION:After Ski på Verandan Åre är en klassiker och ett måste under ditt Årebesök. I anrika lokaler med Åres bästa läge och med en stämning som är omtalad världen över. Alltid med Liveunderhållning av Sveriges absolut bästa Coverband samt DJ. Passa också på att äta gott på Verandans Bakficka. Kom i tid – det blir tryck! \nBeskrivning: After Ski med Dj och Liveband\nArtist: DUOJAG\nTid: 15.00 – 18.00\nBordsbokning: Maila din förfrågan till info@verandanare.se
URL:https://verandanare.se/event/after-ski-med-duojag/2026-01-22/
LOCATION:Verandan Åre\, Sankt Olavs Väg 40\, Åre\, 83752\, Sverige
CATEGORIES:Afterski
ATTACH;FMTTYPE=image/jpeg:https://verandanare.se/wp-content/uploads/2023/11/verandan-afterski-2024.jpg
END:VEVENT
BEGIN:VEVENT
DTSTART;TZID=Europe/Stockholm:20260123T150000
DTEND;TZID=Europe/Stockholm:20260123T180000
DTSTAMP:20260419T231420
CREATED:20251109T222009Z
LAST-MODIFIED:20251109T222009Z
UID:10001322-1769180400-1769191200@verandanare.se
SUMMARY:After ski med Duojag
DESCRIPTION:After Ski på Verandan Åre är en klassiker och ett måste under ditt Årebesök. I anrika lokaler med Åres bästa läge och med en stämning som är omtalad världen över. Alltid med Liveunderhållning av Sveriges absolut bästa Coverband samt DJ. Passa också på att äta gott på Verandans Bakficka. Kom i tid – det blir tryck! \nBeskrivning: After Ski med Dj och Liveband\nArtist: DUOJAG\nTid: 15.00 – 18.00\nBordsbokning: Maila din förfrågan till info@verandanare.se
URL:https://verandanare.se/event/after-ski-med-duojag/2026-01-23/
LOCATION:Verandan Åre\, Sankt Olavs Väg 40\, Åre\, 83752\, Sverige
CATEGORIES:Afterski
ATTACH;FMTTYPE=image/jpeg:https://verandanare.se/wp-content/uploads/2023/11/verandan-afterski-2024.jpg
END:VEVENT
BEGIN:VEVENT
DTSTART;TZID=Europe/Stockholm:20260124T150000
DTEND;TZID=Europe/Stockholm:20260124T180000
DTSTAMP:20260419T231420
CREATED:20251109T222009Z
LAST-MODIFIED:20251109T222009Z
UID:10001323-1769266800-1769277600@verandanare.se
SUMMARY:After ski med Duojag
DESCRIPTION:After Ski på Verandan Åre är en klassiker och ett måste under ditt Årebesök. I anrika lokaler med Åres bästa läge och med en stämning som är omtalad världen över. Alltid med Liveunderhållning av Sveriges absolut bästa Coverband samt DJ. Passa också på att äta gott på Verandans Bakficka. Kom i tid – det blir tryck! \nBeskrivning: After Ski med Dj och Liveband\nArtist: DUOJAG\nTid: 15.00 – 18.00\nBordsbokning: Maila din förfrågan till info@verandanare.se
URL:https://verandanare.se/event/after-ski-med-duojag/2026-01-24/
LOCATION:Verandan Åre\, Sankt Olavs Väg 40\, Åre\, 83752\, Sverige
CATEGORIES:Afterski
ATTACH;FMTTYPE=image/jpeg:https://verandanare.se/wp-content/uploads/2023/11/verandan-afterski-2024.jpg
END:VEVENT
BEGIN:VEVENT
DTSTART;TZID=Europe/Stockholm:20260125T150000
DTEND;TZID=Europe/Stockholm:20260125T180000
DTSTAMP:20260419T231420
CREATED:20241209T105214Z
LAST-MODIFIED:20260222T191631Z
UID:10001192-1769353200-1769364000@verandanare.se
SUMMARY:After Ski med Marmeladorkestern
DESCRIPTION:After Ski på Verandan Åre är en klassik och ett måste under ditt Årebesök. I anrika lokaler med Åres bästa läge och med en stämning som är omtalad världen över. Alltid med Liveunderhållning av Sveriges absolut bästa Coverband samt DJ. Passa också på att äta gott på Verandans Bakficka. Kom i tid – det blir tryck! \nBeskrivning: After Ski med Dj och Liveband\nArtist: MARMELADORKESTERN\nTid: 15.00 – 18.00\nÅlder: Minst 20 år\, gäller även i målsmans sällskap\nBordsbokning: Maila din förfrågan till info@verandanare.se
URL:https://verandanare.se/event/after-ski-med-marmeladorkestern-16/2026-01-25/
LOCATION:Verandan Åre\, Sankt Olavs Väg 40\, Åre\, 83752\, Sverige
CATEGORIES:Afterski
ATTACH;FMTTYPE=image/jpeg:https://verandanare.se/wp-content/uploads/2023/12/afterski-marmelad.jpg
END:VEVENT
END:VCALENDAR