BEGIN:VCALENDAR
VERSION:2.0
PRODID:-//Verandan Åre - ECPv6.15.11//NONSGML v1.0//EN
CALSCALE:GREGORIAN
METHOD:PUBLISH
X-WR-CALNAME:Verandan Åre
X-ORIGINAL-URL:https://verandanare.se
X-WR-CALDESC:Händelser för Verandan Åre
REFRESH-INTERVAL;VALUE=DURATION:PT1H
X-Robots-Tag:noindex
X-PUBLISHED-TTL:PT1H
BEGIN:VTIMEZONE
TZID:Europe/Stockholm
BEGIN:DAYLIGHT
TZOFFSETFROM:+0100
TZOFFSETTO:+0200
TZNAME:CEST
DTSTART:20230326T010000
END:DAYLIGHT
BEGIN:STANDARD
TZOFFSETFROM:+0200
TZOFFSETTO:+0100
TZNAME:CET
DTSTART:20231029T010000
END:STANDARD
BEGIN:DAYLIGHT
TZOFFSETFROM:+0100
TZOFFSETTO:+0200
TZNAME:CEST
DTSTART:20240331T010000
END:DAYLIGHT
BEGIN:STANDARD
TZOFFSETFROM:+0200
TZOFFSETTO:+0100
TZNAME:CET
DTSTART:20241027T010000
END:STANDARD
BEGIN:DAYLIGHT
TZOFFSETFROM:+0100
TZOFFSETTO:+0200
TZNAME:CEST
DTSTART:20250330T010000
END:DAYLIGHT
BEGIN:STANDARD
TZOFFSETFROM:+0200
TZOFFSETTO:+0100
TZNAME:CET
DTSTART:20251026T010000
END:STANDARD
END:VTIMEZONE
BEGIN:VEVENT
DTSTART;TZID=Europe/Stockholm:20241225T220000
DTEND;TZID=Europe/Stockholm:20241225T220000
DTSTAMP:20260420T142043
CREATED:20241220T142809Z
LAST-MODIFIED:20241220T145544Z
UID:10001129-1735164000-1735164000@verandanare.se
SUMMARY:Verandans Juldagsfest
DESCRIPTION:Verandanvänner!\nVälkomna till den traditionsenliga juldagsfesten på Verandan. En årlig tradition som blivit en riktig klassiker hos oss\, där både hemvändare och julfirare går ut denna kväll! Vi räknar med fullt hus\, där vi kör två dansgolv med @djluckyluke & @lindqvisterik bakom spelarna.\nVi på Verandan önskar er alla en riktigt god jul så ses vi den 25e! \nÖppet: 22-02\nÅlder: 18+
URL:https://verandanare.se/event/verandans-juldagsfest/
LOCATION:Verandan Åre\, Sankt Olavs Väg 40\, Åre\, 83752\, Sverige
CATEGORIES:Featured,Nattklubb
ATTACH;FMTTYPE=image/png:https://verandanare.se/wp-content/uploads/2024/12/juldagsfestdesktop@2x.png
END:VEVENT
END:VCALENDAR