BEGIN:VCALENDAR
VERSION:2.0
PRODID:-//Verandan Åre - ECPv6.15.11//NONSGML v1.0//EN
CALSCALE:GREGORIAN
METHOD:PUBLISH
X-ORIGINAL-URL:https://verandanare.se
X-WR-CALDESC:Händelser för Verandan Åre
REFRESH-INTERVAL;VALUE=DURATION:PT1H
X-Robots-Tag:noindex
X-PUBLISHED-TTL:PT1H
BEGIN:VTIMEZONE
TZID:Europe/Stockholm
BEGIN:DAYLIGHT
TZOFFSETFROM:+0100
TZOFFSETTO:+0200
TZNAME:CEST
DTSTART:20240331T010000
END:DAYLIGHT
BEGIN:STANDARD
TZOFFSETFROM:+0200
TZOFFSETTO:+0100
TZNAME:CET
DTSTART:20241027T010000
END:STANDARD
BEGIN:DAYLIGHT
TZOFFSETFROM:+0100
TZOFFSETTO:+0200
TZNAME:CEST
DTSTART:20250330T010000
END:DAYLIGHT
BEGIN:STANDARD
TZOFFSETFROM:+0200
TZOFFSETTO:+0100
TZNAME:CET
DTSTART:20251026T010000
END:STANDARD
BEGIN:DAYLIGHT
TZOFFSETFROM:+0100
TZOFFSETTO:+0200
TZNAME:CEST
DTSTART:20260329T010000
END:DAYLIGHT
BEGIN:STANDARD
TZOFFSETFROM:+0200
TZOFFSETTO:+0100
TZNAME:CET
DTSTART:20261025T010000
END:STANDARD
END:VTIMEZONE
BEGIN:VEVENT
DTSTART;TZID=Europe/Stockholm:20250318T220000
DTEND;TZID=Europe/Stockholm:20250318T220000
DTSTAMP:20260421T184218
CREATED:20250317T224914Z
LAST-MODIFIED:20250422T125412Z
UID:10001164-1742335200-1742335200@verandanare.se
SUMMARY:Tisdagsklubb @Verandan
DESCRIPTION:Byggets klassiska Tisdagsklubb flyttar till Verandan! \nIngång från östra sidan\, Restaurang Bakfickan. \nFri entré & garderob hela kvällen. \n22:00-02:00 \nLägsta ålder: 18år \nVi ses!
URL:https://verandanare.se/event/tisdagsklubb-verandan/
LOCATION:Verandan Åre\, Sankt Olavs Väg 40\, Åre\, 83752\, Sverige
CATEGORIES:Nattklubb
END:VEVENT
BEGIN:VEVENT
DTSTART;TZID=Europe/Stockholm:20250323T220000
DTEND;TZID=Europe/Stockholm:20250323T220000
DTSTAMP:20260421T184218
CREATED:20241220T163835Z
LAST-MODIFIED:20250407T121418Z
UID:10001152-1742767200-1742767200@verandanare.se
SUMMARY:Söndagsklubben på Verandan
DESCRIPTION:Verandans klassiska Söndagsklubb! \n22-02 \nÅlder: 18+
URL:https://verandanare.se/event/sondagsklubben-pa-verandan/2025-03-23/
LOCATION:Verandan Åre\, Sankt Olavs Väg 40\, Åre\, 83752\, Sverige
CATEGORIES:Nattklubb
END:VEVENT
END:VCALENDAR