BEGIN:VCALENDAR
VERSION:2.0
PRODID:-//Verandan Åre - ECPv6.15.11//NONSGML v1.0//EN
CALSCALE:GREGORIAN
METHOD:PUBLISH
X-WR-CALNAME:Verandan Åre
X-ORIGINAL-URL:https://verandanare.se
X-WR-CALDESC:Händelser för Verandan Åre
REFRESH-INTERVAL;VALUE=DURATION:PT1H
X-Robots-Tag:noindex
X-PUBLISHED-TTL:PT1H
BEGIN:VTIMEZONE
TZID:Europe/Stockholm
BEGIN:DAYLIGHT
TZOFFSETFROM:+0100
TZOFFSETTO:+0200
TZNAME:CEST
DTSTART:20240331T010000
END:DAYLIGHT
BEGIN:STANDARD
TZOFFSETFROM:+0200
TZOFFSETTO:+0100
TZNAME:CET
DTSTART:20241027T010000
END:STANDARD
BEGIN:DAYLIGHT
TZOFFSETFROM:+0100
TZOFFSETTO:+0200
TZNAME:CEST
DTSTART:20250330T010000
END:DAYLIGHT
BEGIN:STANDARD
TZOFFSETFROM:+0200
TZOFFSETTO:+0100
TZNAME:CET
DTSTART:20251026T010000
END:STANDARD
BEGIN:DAYLIGHT
TZOFFSETFROM:+0100
TZOFFSETTO:+0200
TZNAME:CEST
DTSTART:20260329T010000
END:DAYLIGHT
BEGIN:STANDARD
TZOFFSETFROM:+0200
TZOFFSETTO:+0100
TZNAME:CET
DTSTART:20261025T010000
END:STANDARD
END:VTIMEZONE
BEGIN:VEVENT
DTSTART;TZID=Europe/Stockholm:20250425T220000
DTEND;TZID=Europe/Stockholm:20250425T220000
DTSTAMP:20260421T133315
CREATED:20250407T124349Z
LAST-MODIFIED:20250407T124349Z
UID:10001175-1745618400-1745618400@verandanare.se
SUMMARY:Nattklubb @verandan
DESCRIPTION:Nattklubb med DJ \nLägsta ålder: 18år \n22:00-02:00
URL:https://verandanare.se/event/nattklubb-verandan/2025-04-25/
LOCATION:Verandan Åre\, Sankt Olavs Väg 40\, Åre\, 83752\, Sverige
CATEGORIES:Nattklubb
END:VEVENT
BEGIN:VEVENT
DTSTART;TZID=Europe/Stockholm:20250426T220000
DTEND;TZID=Europe/Stockholm:20250426T220000
DTSTAMP:20260421T133315
CREATED:20250407T124349Z
LAST-MODIFIED:20250407T124349Z
UID:10001176-1745704800-1745704800@verandanare.se
SUMMARY:Nattklubb @verandan
DESCRIPTION:Nattklubb med DJ \nLägsta ålder: 18år \n22:00-02:00
URL:https://verandanare.se/event/nattklubb-verandan/2025-04-26/
LOCATION:Verandan Åre\, Sankt Olavs Väg 40\, Åre\, 83752\, Sverige
CATEGORIES:Nattklubb
END:VEVENT
END:VCALENDAR