BEGIN:VCALENDAR
VERSION:2.0
PRODID:-//Verandan Åre - ECPv6.15.11//NONSGML v1.0//EN
CALSCALE:GREGORIAN
METHOD:PUBLISH
X-WR-CALNAME:Verandan Åre
X-ORIGINAL-URL:https://verandanare.se
X-WR-CALDESC:Händelser för Verandan Åre
REFRESH-INTERVAL;VALUE=DURATION:PT1H
X-Robots-Tag:noindex
X-PUBLISHED-TTL:PT1H
BEGIN:VTIMEZONE
TZID:Europe/Stockholm
BEGIN:DAYLIGHT
TZOFFSETFROM:+0100
TZOFFSETTO:+0200
TZNAME:CEST
DTSTART:20240331T010000
END:DAYLIGHT
BEGIN:STANDARD
TZOFFSETFROM:+0200
TZOFFSETTO:+0100
TZNAME:CET
DTSTART:20241027T010000
END:STANDARD
BEGIN:DAYLIGHT
TZOFFSETFROM:+0100
TZOFFSETTO:+0200
TZNAME:CEST
DTSTART:20250330T010000
END:DAYLIGHT
BEGIN:STANDARD
TZOFFSETFROM:+0200
TZOFFSETTO:+0100
TZNAME:CET
DTSTART:20251026T010000
END:STANDARD
BEGIN:DAYLIGHT
TZOFFSETFROM:+0100
TZOFFSETTO:+0200
TZNAME:CEST
DTSTART:20260329T010000
END:DAYLIGHT
BEGIN:STANDARD
TZOFFSETFROM:+0200
TZOFFSETTO:+0100
TZNAME:CET
DTSTART:20261025T010000
END:STANDARD
BEGIN:DAYLIGHT
TZOFFSETFROM:+0100
TZOFFSETTO:+0200
TZNAME:CEST
DTSTART:20270328T010000
END:DAYLIGHT
BEGIN:STANDARD
TZOFFSETFROM:+0200
TZOFFSETTO:+0100
TZNAME:CET
DTSTART:20271031T010000
END:STANDARD
END:VTIMEZONE
BEGIN:VEVENT
DTSTART;TZID=Europe/Stockholm:20251231T220000
DTEND;TZID=Europe/Stockholm:20251231T220000
DTSTAMP:20260420T124504
CREATED:20251025T181925Z
LAST-MODIFIED:20251025T181958Z
UID:10001182-1767218400-1767218400@verandanare.se
SUMMARY:The Golden New Year Party at Verandan
DESCRIPTION:”The Golden Party by Moët” Nyårsfesten som innehåller allt du önskar för ett grymt nyårsparty! Vi dressar Verandan i sin allra guldigaste nyårsstass och erbjuder dans på två sprakande dansgolv. \n​Entré ink.garderob 450 kr + servicavgift\n​Ålder: 18år\n​Öppet: 22.00-03.00
URL:https://verandanare.se/event/the-golden-new-year-party-at-verandan/
LOCATION:Verandan Åre\, Sankt Olavs Väg 40\, Åre\, 83752\, Sverige
CATEGORIES:Featured,Nattklubb
ATTACH;FMTTYPE=image/jpeg:https://verandanare.se/wp-content/uploads/2025/10/banner-newyears-2025.jpg
END:VEVENT
BEGIN:VEVENT
DTSTART;TZID=Europe/Stockholm:20260102T220000
DTEND;TZID=Europe/Stockholm:20260102T220000
DTSTAMP:20260420T124504
CREATED:20251208T153546Z
LAST-MODIFIED:20251208T153546Z
UID:10001359-1767391200-1767391200@verandanare.se
SUMMARY:NATTKLUBB @verandan
DESCRIPTION:Denna kväll flyttar vi nattklubben från Bygget och in till Verandan.  \n2 dansgolv med 2 djs.  \n22-02 \nVarmt välkomna!
URL:https://verandanare.se/event/nattklubb-verandan-3/2026-01-02/
LOCATION:Verandan Åre\, Sankt Olavs Väg 40\, Åre\, 83752\, Sverige
CATEGORIES:Nattklubb
END:VEVENT
BEGIN:VEVENT
DTSTART;TZID=Europe/Stockholm:20260103T220000
DTEND;TZID=Europe/Stockholm:20260103T220000
DTSTAMP:20260420T124504
CREATED:20260103T165659Z
LAST-MODIFIED:20260103T165659Z
UID:10001360-1767477600-1767477600@verandanare.se
SUMMARY:NATTKLUBB @verandan
DESCRIPTION:Denna kväll flyttar vi nattklubben från Bygget och in till Verandan. \n2 dansgolv med 2 djs. \n22-02 \nVarmt välkomna!
URL:https://verandanare.se/event/nattklubb-verandan-3-2/
LOCATION:Verandan Åre\, Sankt Olavs Väg 40\, Åre\, 83752\, Sverige
CATEGORIES:Featured,Nattklubb
ATTACH;FMTTYPE=image/jpeg:https://verandanare.se/wp-content/uploads/2026/01/nattklubb-2-3jan.jpg
END:VEVENT
END:VCALENDAR