BEGIN:VCALENDAR
VERSION:2.0
PRODID:-//Verandan Åre - ECPv6.15.11//NONSGML v1.0//EN
CALSCALE:GREGORIAN
METHOD:PUBLISH
X-WR-CALNAME:Verandan Åre
X-ORIGINAL-URL:https://verandanare.se
X-WR-CALDESC:Händelser för Verandan Åre
REFRESH-INTERVAL;VALUE=DURATION:PT1H
X-Robots-Tag:noindex
X-PUBLISHED-TTL:PT1H
BEGIN:VTIMEZONE
TZID:Europe/Stockholm
BEGIN:DAYLIGHT
TZOFFSETFROM:+0100
TZOFFSETTO:+0200
TZNAME:CEST
DTSTART:20250330T010000
END:DAYLIGHT
BEGIN:STANDARD
TZOFFSETFROM:+0200
TZOFFSETTO:+0100
TZNAME:CET
DTSTART:20251026T010000
END:STANDARD
BEGIN:DAYLIGHT
TZOFFSETFROM:+0100
TZOFFSETTO:+0200
TZNAME:CEST
DTSTART:20260329T010000
END:DAYLIGHT
BEGIN:STANDARD
TZOFFSETFROM:+0200
TZOFFSETTO:+0100
TZNAME:CET
DTSTART:20261025T010000
END:STANDARD
BEGIN:DAYLIGHT
TZOFFSETFROM:+0100
TZOFFSETTO:+0200
TZNAME:CEST
DTSTART:20270328T010000
END:DAYLIGHT
BEGIN:STANDARD
TZOFFSETFROM:+0200
TZOFFSETTO:+0100
TZNAME:CET
DTSTART:20271031T010000
END:STANDARD
END:VTIMEZONE
BEGIN:VEVENT
DTSTART;TZID=Europe/Stockholm:20260312T220000
DTEND;TZID=Europe/Stockholm:20260312T220000
DTSTAMP:20260419T190934
CREATED:20260312T134331Z
LAST-MODIFIED:20260312T134355Z
UID:10001409-1773352800-1773352800@verandanare.se
SUMMARY:AFTER-SKI NIGHT EDITION
DESCRIPTION:Torsdag 12 mars kör vi nattklubb på Verandan. \nVi bjuder även in vårt kära husband Maremeladorkestern till en kvälls After-Ski. \nSamma upplägg som på dagen fast på kvällen. Efter spelning är det sedvanlig nattklubb fram till kl 02:00 \nNattklubb: 22-02 \nMarmeladorkestern: 23:00 \nDjs: Lucas \nLägsta ålder 20+ \nEntré: 120 kr \nVarmt välkomna!
URL:https://verandanare.se/event/after-ski-night-edition-6/
LOCATION:Verandan Åre\, Sankt Olavs Väg 40\, Åre\, 83752\, Sverige
CATEGORIES:Afterski,Nattklubb
ATTACH;FMTTYPE=image/png:https://verandanare.se/wp-content/uploads/2026/03/afterskiedition-12mars.png
END:VEVENT
END:VCALENDAR