BEGIN:VCALENDAR
VERSION:2.0
PRODID:-//Verandan Åre - ECPv6.15.11//NONSGML v1.0//EN
CALSCALE:GREGORIAN
METHOD:PUBLISH
X-ORIGINAL-URL:https://verandanare.se
X-WR-CALDESC:Händelser för Verandan Åre
REFRESH-INTERVAL;VALUE=DURATION:PT1H
X-Robots-Tag:noindex
X-PUBLISHED-TTL:PT1H
BEGIN:VTIMEZONE
TZID:Europe/Stockholm
BEGIN:DAYLIGHT
TZOFFSETFROM:+0100
TZOFFSETTO:+0200
TZNAME:CEST
DTSTART:20240331T010000
END:DAYLIGHT
BEGIN:STANDARD
TZOFFSETFROM:+0200
TZOFFSETTO:+0100
TZNAME:CET
DTSTART:20241027T010000
END:STANDARD
BEGIN:DAYLIGHT
TZOFFSETFROM:+0100
TZOFFSETTO:+0200
TZNAME:CEST
DTSTART:20250330T010000
END:DAYLIGHT
BEGIN:STANDARD
TZOFFSETFROM:+0200
TZOFFSETTO:+0100
TZNAME:CET
DTSTART:20251026T010000
END:STANDARD
BEGIN:DAYLIGHT
TZOFFSETFROM:+0100
TZOFFSETTO:+0200
TZNAME:CEST
DTSTART:20260329T010000
END:DAYLIGHT
BEGIN:STANDARD
TZOFFSETFROM:+0200
TZOFFSETTO:+0100
TZNAME:CET
DTSTART:20261025T010000
END:STANDARD
END:VTIMEZONE
BEGIN:VEVENT
DTSTART;TZID=Europe/Stockholm:20250501T220000
DTEND;TZID=Europe/Stockholm:20250501T220000
DTSTAMP:20260421T133616
CREATED:20250407T125930Z
LAST-MODIFIED:20250407T125930Z
UID:10001177-1746136800-1746136800@verandanare.se
SUMMARY:Nattklubb @Verandan
DESCRIPTION:Denna helg är det Åre sessions i byn! \nVerandan är öppet och vi kör självklart nattklubb i dagarna tre med DJs. \nFri entré hela helgen. \nLägsta ålder: 18år \n22:00-02:00 \nMer info kommer löpande!
URL:https://verandanare.se/event/nattklubb-verandan-2/2025-05-01/
LOCATION:Verandan Åre\, Sankt Olavs Väg 40\, Åre\, 83752\, Sverige
END:VEVENT
BEGIN:VEVENT
DTSTART;TZID=Europe/Stockholm:20250502T220000
DTEND;TZID=Europe/Stockholm:20250502T220000
DTSTAMP:20260421T133616
CREATED:20250407T125930Z
LAST-MODIFIED:20250407T125930Z
UID:10001178-1746223200-1746223200@verandanare.se
SUMMARY:Nattklubb @Verandan
DESCRIPTION:Denna helg är det Åre sessions i byn! \nVerandan är öppet och vi kör självklart nattklubb i dagarna tre med DJs. \nFri entré hela helgen. \nLägsta ålder: 18år \n22:00-02:00 \nMer info kommer löpande!
URL:https://verandanare.se/event/nattklubb-verandan-2/2025-05-02/
LOCATION:Verandan Åre\, Sankt Olavs Väg 40\, Åre\, 83752\, Sverige
END:VEVENT
BEGIN:VEVENT
DTSTART;TZID=Europe/Stockholm:20250503T220000
DTEND;TZID=Europe/Stockholm:20250503T220000
DTSTAMP:20260421T133616
CREATED:20250407T125930Z
LAST-MODIFIED:20250407T125930Z
UID:10001179-1746309600-1746309600@verandanare.se
SUMMARY:Nattklubb @Verandan
DESCRIPTION:Denna helg är det Åre sessions i byn! \nVerandan är öppet och vi kör självklart nattklubb i dagarna tre med DJs. \nFri entré hela helgen. \nLägsta ålder: 18år \n22:00-02:00 \nMer info kommer löpande!
URL:https://verandanare.se/event/nattklubb-verandan-2/2025-05-03/
LOCATION:Verandan Åre\, Sankt Olavs Väg 40\, Åre\, 83752\, Sverige
END:VEVENT
END:VCALENDAR